BEGIN:VCALENDAR
VERSION:2.0
PRODID:-//Godsu Global Oved Dei Seminary and University - ECPv6.15.20//NONSGML v1.0//EN
CALSCALE:GREGORIAN
METHOD:PUBLISH
X-WR-CALNAME:Godsu Global Oved Dei Seminary and University
X-ORIGINAL-URL:https://godsu.org
X-WR-CALDESC:Events for Godsu Global Oved Dei Seminary and University
REFRESH-INTERVAL;VALUE=DURATION:PT1H
X-Robots-Tag:noindex
X-PUBLISHED-TTL:PT1H
BEGIN:VTIMEZONE
TZID:America/New_York
BEGIN:DAYLIGHT
TZOFFSETFROM:-0500
TZOFFSETTO:-0400
TZNAME:EDT
DTSTART:20250309T070000
END:DAYLIGHT
BEGIN:STANDARD
TZOFFSETFROM:-0400
TZOFFSETTO:-0500
TZNAME:EST
DTSTART:20251102T060000
END:STANDARD
BEGIN:DAYLIGHT
TZOFFSETFROM:-0500
TZOFFSETTO:-0400
TZNAME:EDT
DTSTART:20260308T070000
END:DAYLIGHT
BEGIN:STANDARD
TZOFFSETFROM:-0400
TZOFFSETTO:-0500
TZNAME:EST
DTSTART:20261101T060000
END:STANDARD
BEGIN:DAYLIGHT
TZOFFSETFROM:-0500
TZOFFSETTO:-0400
TZNAME:EDT
DTSTART:20270314T070000
END:DAYLIGHT
BEGIN:STANDARD
TZOFFSETFROM:-0400
TZOFFSETTO:-0500
TZNAME:EST
DTSTART:20271107T060000
END:STANDARD
END:VTIMEZONE
BEGIN:VTIMEZONE
TZID:Pacific/Easter
BEGIN:STANDARD
TZOFFSETFROM:-0500
TZOFFSETTO:-0600
TZNAME:-06
DTSTART:20250406T030000
END:STANDARD
BEGIN:DAYLIGHT
TZOFFSETFROM:-0600
TZOFFSETTO:-0500
TZNAME:-05
DTSTART:20250907T040000
END:DAYLIGHT
BEGIN:STANDARD
TZOFFSETFROM:-0500
TZOFFSETTO:-0600
TZNAME:-06
DTSTART:20260405T030000
END:STANDARD
BEGIN:DAYLIGHT
TZOFFSETFROM:-0600
TZOFFSETTO:-0500
TZNAME:-05
DTSTART:20260906T040000
END:DAYLIGHT
BEGIN:STANDARD
TZOFFSETFROM:-0500
TZOFFSETTO:-0600
TZNAME:-06
DTSTART:20270404T030000
END:STANDARD
BEGIN:DAYLIGHT
TZOFFSETFROM:-0600
TZOFFSETTO:-0500
TZNAME:-05
DTSTART:20270905T040000
END:DAYLIGHT
END:VTIMEZONE
BEGIN:VEVENT
DTSTART;TZID=America/New_York:20260404T100000
DTEND;TZID=America/New_York:20260404T120000
DTSTAMP:20260421T020439
CREATED:20241211T125126Z
LAST-MODIFIED:20260419T025519Z
UID:11793-1775296800-1775304000@godsu.org
SUMMARY:GRADUATION PART 2 OF 2 - Commencement Ceremony and Awards
DESCRIPTION:
URL:https://godsu.org/event/graduation-part-2-of-2-commencement-ceremony-and-awards/
LOCATION:Ft Lauderdale\, Florida Broward Convention Center\, Ft Lauderdale\, Florida Broward Convention Center\, FL\, United States
CATEGORIES:Graduation
ATTACH;FMTTYPE=image/jpeg:https://godsu.org/wp-content/uploads/2024/12/WhatsApp-Image-2026-04-18-at-21.15.15.jpeg
END:VEVENT
BEGIN:VEVENT
DTSTART;TZID=Pacific/Easter:20260404T130000
DTEND;TZID=Pacific/Easter:20260404T160000
DTSTAMP:20260421T020439
CREATED:20241201T042640Z
LAST-MODIFIED:20260419T025240Z
UID:8592-1775307600-1775318400@godsu.org
SUMMARY:GODSU GRADUATION AND EMPOWER U MASTERCLASS
DESCRIPTION:About The Event\nJoin us for the Godsu Graduation & Empower U Masterclass\, a thought-provoking event designed to inspire and empower individuals to navigate the challenges and opportunities of tomorrow’s world. This Masterclass brings together leading experts\, visionaries\, and innovators from various fields to explore cutting-edge ideas and share insights on shaping the future. \n  \nInteractive Workshops: \nConnect with like-minded individuals\, professionals\, and mentors. Build a network that will support your personal and professional growth\, fostering collaboration and idea exchange. \n  \nINetworking Opportunities: \nHear from renowned thought leaders who will delve into topics such as artificial intelligence\, sustainability\, and the future of work. Gain valuable perspectives to help you thrive. \n  \nNetworking Opportunities: \nHear from renowned thought leaders who will delve into topics such as artificial intelligence\, sustainability\, and the future of work. Gain valuable perspectives. \n  \nRegistration: \nSecure your spot today and be part of the Future Minds Symposium. Early bird registration is now open at www.godsu.org Don’t miss this opportunity to gain valuable insights. \nINFORMATION \nDate & Time:\nDecember 14\, 2024 \nCost:\n$71 \nCategories:\nConference \nWebsite:\nhttp://Tinyurl.com/klvcn96 \nOrganizer\nAdmin\nPhone:\n\n678 278 9676 EXT 121  \nWebsite:\nView Organizer Website \nEmail:\n\ndakarmarketingtools.com  \nVANUE \nFt Lauderdale\, Florida Broward Convention Center\nAddress:\nFt Lauderdale\, Florida Broward Convention Center\nFL\nUnited States\n+ Google Map \nPhone:\n\n678 278 9676 Ext 121  \nWebsite:\nView Venue Website
URL:https://godsu.org/event/godsu-graduation-and-empower-u-masterclass/
LOCATION:Ft Lauderdale\, Florida Broward Convention Center\, Ft Lauderdale\, Florida Broward Convention Center\, FL\, United States
CATEGORIES:Conference
ATTACH;FMTTYPE=image/jpeg:https://godsu.org/wp-content/uploads/2024/12/WhatsApp-Image-2026-04-18-at-21.49.33.jpeg
ORGANIZER;CN="Admin":MAILTO:dakarmarketingtools.com
END:VEVENT
END:VCALENDAR